BEGIN:VCALENDAR
VERSION:2.0
PRODID:-//ExpressionEngine Easy iCalendar plugin//NONSGML v1.1.1//EN
BEGIN:VEVENT
UID:event
LOCATION:The Schapiro Center\, Davis Auditorium
DTSTAMP:20210221T35200Z
DTSTART;TZID=America/New_York:20080206T181500
DTEND;TZID=America/New_York:
SUMMARY:India and China: A Comparison of their Past\, Present\, and Fu
 ture
DESCRIPTION:Titans of the future\, it is said of these two countries. How
  has this come to be in each case? By what criteria of succe
 ss? And with what problems and pitfalls in train? These are 
 some of the questions that three remarkable economists of gl
 obalization will discuss in their comparison of India and Ch
 ina.
END:VEVENT
END:VCALENDAR