BEGIN:VCALENDAR
VERSION:2.0
PRODID:-//ExpressionEngine Easy iCalendar plugin//NONSGML v1.1.1//EN
BEGIN:VEVENT
UID:event
LOCATION:Schermerhorn Hall\, 501
DTSTAMP:20210221T35200Z
DTSTART;TZID=America/New_York:20080225T200000
DTEND;TZID=America/New_York:
SUMMARY:Ecology and Democracy
DESCRIPTION:A talk featuring philosopher Bruno Latour.
END:VEVENT
END:VCALENDAR