BEGIN:VCALENDAR
VERSION:2.0
PRODID:-//ExpressionEngine Easy iCalendar plugin//NONSGML v1.1.1//EN
BEGIN:VEVENT
UID:event
LOCATION:The Heyman Center\, Common Room
DTSTAMP:20210221T35200Z
DTSTART;TZID=America/New_York:20080310T181500
DTEND;TZID=America/New_York:
SUMMARY:An Empire of God or of Man?
DESCRIPTION:Catherine Hall speaks on “An Empire of God or of Man?: The
  Macaulays Father and Son.”\n\n	 
END:VEVENT
END:VCALENDAR