BEGIN:VCALENDAR
VERSION:2.0
PRODID:-//ExpressionEngine Easy iCalendar plugin//NONSGML v1.1.1//EN
BEGIN:VEVENT
UID:event
LOCATION:Schermerhorn Hall\, 501
DTSTAMP:20210221T35200Z
DTSTART;TZID=America/New_York:20080324T200000
DTEND;TZID=America/New_York:
SUMMARY:What is Modernism?
DESCRIPTION:This event will feature Daphne Merkin\, critic\, essayist and 
 novelist\; Edward Rothstein\, chief music critic for the New Y
 ork Times\; and Arthur Danto\, Professor of Philosophy at Colu
 mbia and art critic. Robert Weil\, executive editor at W.W. N
 orton\, will serve as chair.
END:VEVENT
END:VCALENDAR