BEGIN:VCALENDAR
VERSION:2.0
PRODID:-//ExpressionEngine Easy iCalendar plugin//NONSGML v1.1.1//EN
BEGIN:VEVENT
UID:event
LOCATION:The Schapiro Center\, Davis Auditorium
DTSTAMP:20210221T35200Z
DTSTART;TZID=America/New_York:20080327T181500
DTEND;TZID=America/New_York:
SUMMARY:Meaning and Method in History
DESCRIPTION:Hayden White and Michael Taussig\, two highly original and un
 orthodox intellectuals\, write about the question of method a
 nd the place of meaning in the study of culture and history.
END:VEVENT
END:VCALENDAR