BEGIN:VCALENDAR
VERSION:2.0
PRODID:-//ExpressionEngine Easy iCalendar plugin//NONSGML v1.1.1//EN
BEGIN:VEVENT
UID:event
LOCATION:The Schapiro Center\, Davis Auditorium
DTSTAMP:20210221T35200Z
DTSTART;TZID=America/New_York:20080409T61500
DTEND;TZID=America/New_York:
SUMMARY:On Not Getting Away With It
DESCRIPTION:British psychologist and essayist Adam Phillips will discuss
  the relationship between psychology and literature in his t
 alk "On Not Getting Away With It."
END:VEVENT
END:VCALENDAR