BEGIN:VCALENDAR
VERSION:2.0
PRODID:-//ExpressionEngine Easy iCalendar plugin//NONSGML v1.1.1//EN
BEGIN:VEVENT
UID:event
LOCATION:The Heyman Center\, Common Room
DTSTAMP:20210221T35200Z
DTSTART;TZID=America/New_York:20080421T181500
DTEND;TZID=America/New_York:
SUMMARY:What Was Democracy?
DESCRIPTION:Stanford Professor of Political Science Josiah Ober speaks o
 n "What Was Democracy?" Columbia Professor of Political Scie
 nce Anna Stilz serves as respondent.
END:VEVENT
END:VCALENDAR