BEGIN:VCALENDAR
VERSION:2.0
PRODID:-//ExpressionEngine Easy iCalendar plugin//NONSGML v1.1.1//EN
BEGIN:VEVENT
UID:event
LOCATION:The Schapiro Center\, Davis Auditorium
DTSTAMP:20210221T35200Z
DTSTART;TZID=America/New_York:20080423T181500
DTEND;TZID=America/New_York:
SUMMARY:The Future of the Image
DESCRIPTION:French philosopher Jacques Rancière and W.J.T. Mitchell\, Pr
 ofessor of English and Art History at the University of Chic
 ago\, discuss "The Future of the Image."
END:VEVENT
END:VCALENDAR