BEGIN:VCALENDAR
VERSION:2.0
PRODID:-//ExpressionEngine Easy iCalendar plugin//NONSGML v1.1.1//EN
BEGIN:VEVENT
UID:event
LOCATION:The Schapiro Center\, Davis Auditorium
DTSTAMP:20210221T35100Z
DTSTART;TZID=America/New_York:20080424T181500
DTEND;TZID=America/New_York:
SUMMARY:The Will to Know: Foucault\, Proust\, Godard
DESCRIPTION:Literary theorist and Professor Emeritus of French at the Un
 iversity of California\, Berkeley\, Leo Bersani speaks on "The
  Will to Know." Lee Edelman\, Professor of English at Tufts U
 niversity\, and Carolyn Dean\, Professor of History and Modern
  Culture and Media at Brown University\, serve as respondents
 .
END:VEVENT
END:VCALENDAR