BEGIN:VCALENDAR
VERSION:2.0
PRODID:-//ExpressionEngine Easy iCalendar plugin//NONSGML v1.1.1//EN
BEGIN:VEVENT
UID:event
LOCATION:The Schapiro Center\, Davis Auditorium
DTSTAMP:20210221T33300Z
DTSTART;TZID=America/New_York:20080430T181500
DTEND;TZID=America/New_York:
SUMMARY:Left Turn in Latin America
DESCRIPTION:Preeminent Sociologist Immanuel Wallerstein and John Coatswo
 rth\, Columbia Dean and Professor of International and Public
  Affairs\, discuss a "Left Turn in Latin America."
END:VEVENT
END:VCALENDAR