BEGIN:VCALENDAR
VERSION:2.0
PRODID:-//ExpressionEngine Easy iCalendar plugin//NONSGML v1.1.1//EN
BEGIN:VEVENT
UID:event
LOCATION:The Schapiro Center\, Davis Auditorium
DTSTAMP:20210221T35100Z
DTSTART;TZID=America/New_York:20070913T181500
DTEND;TZID=America/New_York:
SUMMARY:Global Poverty: What Are Our Obligations?
DESCRIPTION:When one considers the subject of global poverty\, questions 
 arise as to whether the help that rich countries can give po
 or countries is a matter of humanitarianism and generosity o
 r whether it is rather a matter of global justice. This is r
 elated to a question about the extent to which the poverty o
 f many nations is a result of policies of the rich nations a
 nd their corporations\, a result\, that is\, of sins of commiss
 ion as opposed merely to sins of omission. These and other s
 uch questions will be the theme of one of the leading moral 
 philosophers in the world\, Peter Singer.
END:VEVENT
END:VCALENDAR