BEGIN:VCALENDAR
VERSION:2.0
PRODID:-//ExpressionEngine Easy iCalendar plugin//NONSGML v1.1.1//EN
BEGIN:VEVENT
UID:event
LOCATION:The Heyman Center\, Common Room
DTSTAMP:20210221T35100Z
DTSTART;TZID=America/New_York:20070917T181500
DTEND;TZID=America/New_York:
SUMMARY:Territory\, Authority\, Rights
DESCRIPTION:Saskia Sassen\, one of the most prominent sociologists of glo
 balization\, will discuss with two other experts\, a range of 
 the most pressing issues of our time—from the global city 
 (a term which she coined) to the privatization of politics i
 n a globalized world.
END:VEVENT
END:VCALENDAR