BEGIN:VCALENDAR
VERSION:2.0
PRODID:-//ExpressionEngine Easy iCalendar plugin//NONSGML v1.1.1//EN
BEGIN:VEVENT
UID:event
LOCATION:Schermerhorn Hall\, 501
DTSTAMP:20210221T35100Z
DTSTART;TZID=America/New_York:20071001T200000
DTEND;TZID=America/New_York:
SUMMARY:A Reading by Adrienne Rich
DESCRIPTION:Adrienne Rich\, one of the greatest poets in the English lang
 uage of the last few decades and a remarkable feminist voice
  in our times\, will return to Columbia's Heyman Center for t
 he Humanities for a reading.
END:VEVENT
END:VCALENDAR