BEGIN:VCALENDAR
VERSION:2.0
PRODID:-//ExpressionEngine Easy iCalendar plugin//NONSGML v1.1.1//EN
BEGIN:VEVENT
UID:event
LOCATION:The Heyman Center\, Common Room
DTSTAMP:20210221T35100Z
DTSTART;TZID=America/New_York:20071002T130000
DTEND;TZID=America/New_York:
SUMMARY:A Conversation with Adrienne Rich
DESCRIPTION:In a meeting open only to Columbia students\, Adrienne Rich w
 ill give an informal class session with Q and A.
END:VEVENT
END:VCALENDAR