BEGIN:VCALENDAR
VERSION:2.0
PRODID:-//ExpressionEngine Easy iCalendar plugin//NONSGML v1.1.1//EN
BEGIN:VEVENT
UID:event
LOCATION:International Affairs Building\, Altschul Auditorium
DTSTAMP:20210221T35100Z
DTSTART;TZID=America/New_York:20071008T200000
DTEND;TZID=America/New_York:
SUMMARY:What Use is Aid?
DESCRIPTION:William Easterly has for some years now been a prominent cri
 tic of various aid programs to poor countries. He will prese
 nt his arguments on this subject and will get critical respo
 nses from the philosopher Peter Singer\, selected as one of N
 ewsweek's 100 most influential people in the world today\, an
 d Columbia's own Joseph Stiglitz\, a nobel prize winner in Ec
 onomics.
END:VEVENT
END:VCALENDAR