BEGIN:VCALENDAR
VERSION:2.0
PRODID:-//ExpressionEngine Easy iCalendar plugin//NONSGML v1.1.1//EN
BEGIN:VEVENT
UID:event
LOCATION:Schermerhorn Hall\, 501
DTSTAMP:20210221T35100Z
DTSTART;TZID=America/New_York:20071009T200000
DTEND;TZID=America/New_York:
SUMMARY:Is there a Left left?
DESCRIPTION:Alexander Cockburn is one of the most brilliant and consiste
 nt left wing voices in public intellectual life today. His c
 olumns in the Nation and his contributions to his own websit
 e Counterpunch.com\, a great source and site for resistance t
 o the orthodoxies of our times\, are major and indispensable 
 contributions to politics outside of the mainstream. He will
  speak on the Left and whether it still exists in America to
 day.
END:VEVENT
END:VCALENDAR