BEGIN:VCALENDAR
VERSION:2.0
PRODID:-//ExpressionEngine Easy iCalendar plugin//NONSGML v1.1.1//EN
BEGIN:VEVENT
UID:event
LOCATION:The Schapiro Center\, Davis Auditorium
DTSTAMP:20210221T35100Z
DTSTART;TZID=America/New_York:20071010T180500
DTEND;TZID=America/New_York:
SUMMARY:Alexander Cockburn in Conversation with Eric Foner
DESCRIPTION:Alexander Cockburn\, one of the most brilliant and consistent
  left wing voices in public intellectual life today\, will be
  interviewed by Columbia's distinguished historian\, Eric Fon
 er\, himself a consistent and learned figure of the American 
 intellectual left.
END:VEVENT
END:VCALENDAR