BEGIN:VCALENDAR
VERSION:2.0
PRODID:-//ExpressionEngine Easy iCalendar plugin//NONSGML v1.1.1//EN
BEGIN:VEVENT
UID:event
LOCATION:The Heyman Center\, Common Room
DTSTAMP:20210221T35100Z
DTSTART;TZID=America/New_York:20071017T190000
DTEND;TZID=America/New_York:
SUMMARY:W.H. Auden’s “The Shield of Achilles”
DESCRIPTION:An evening of Auden at the Heyman Center: two major poets an
 d a remarkable scholar of poetry spend an evening with a vol
 ume of poems (The Shield of Achilles) by one of the greatest
  of poets of the twentieth century.
END:VEVENT
END:VCALENDAR