BEGIN:VCALENDAR
VERSION:2.0
PRODID:-//ExpressionEngine Easy iCalendar plugin//NONSGML v1.1.1//EN
BEGIN:VEVENT
UID:event
LOCATION:The Schapiro Center\, Davis Auditorium
DTSTAMP:20210221T35100Z
DTSTART;TZID=America/New_York:20071030T181500
DTEND;TZID=America/New_York:
SUMMARY:Freedom and the University
DESCRIPTION:Academic freedom is widely perceived to be under increasing 
 threat in America\, more so than at any time since the McCart
 hy period in the Fifties. This is the first of two symposia 
 funded by the Ford Foundation this year which gathers eminen
 t scholars to talk about their experiences\, to analyze the p
 roblem\, and to offer possible solutions.
END:VEVENT
END:VCALENDAR