BEGIN:VCALENDAR
VERSION:2.0
PRODID:-//ExpressionEngine Easy iCalendar plugin//NONSGML v1.1.1//EN
BEGIN:VEVENT
UID:event
LOCATION:The Schapiro Center\, Davis Auditorium
DTSTAMP:20210221T35100Z
DTSTART;TZID=America/New_York:20071115T191500
DTEND;TZID=America/New_York:
SUMMARY:Fear\, Reverence\, Terror
DESCRIPTION:A greatly imaginative and distinguished senior historian to 
 speak on "Fear\, Reverence\, Terror" with two brilliant younge
 r historians raising discussion.
END:VEVENT
END:VCALENDAR