BEGIN:VCALENDAR
VERSION:2.0
PRODID:-//ExpressionEngine Easy iCalendar plugin//NONSGML v1.1.1//EN
BEGIN:VEVENT
UID:event
LOCATION:The Schapiro Center\, Davis Auditorium
DTSTAMP:20210221T35100Z
DTSTART;TZID=America/New_York:20071115T180500
DTEND;TZID=America/New_York:
SUMMARY:The Lionel Trilling Seminar: The Death of a Beautiful Woman:
  The Idea of Form Now
DESCRIPTION:Featuring Walter Benn Michaels\, Charles Altieri\, and Amanda 
 Anderson
END:VEVENT
END:VCALENDAR