BEGIN:VCALENDAR
VERSION:2.0
PRODID:-//ExpressionEngine Easy iCalendar plugin//NONSGML v1.1.1//EN
BEGIN:VEVENT
UID:event
LOCATION:The Heyman Center\, Common Room
DTSTAMP:20210221T35100Z
DTSTART;TZID=America/New_York:20071116T180500
DTEND;TZID=America/New_York:
SUMMARY:Why We Need a Global History of Political Thought
DESCRIPTION:ohn Dunn\, along with Quentin Skinner and John Pocock\, founde
 d what is known as the 'Cambridge School\,' a method of histo
 rical study in political theory that has had an influence th
 e world over. He will be speaking on the importance of globa
 lizing the history of political thought\, and three theorists
  of political theory\, all from South Asia\, will be raising a
  discussion for him.\n\nFeaturing John Dunn with Sudipta Kavir
 aj\, Sunil Khilnani & Uday Mehta
END:VEVENT
END:VCALENDAR