BEGIN:VCALENDAR
VERSION:2.0
PRODID:-//ExpressionEngine Easy iCalendar plugin//NONSGML v1.1.1//EN
BEGIN:VEVENT
UID:event
LOCATION:The Heyman Center\, Common Room
DTSTAMP:20210221T35100Z
DTSTART;TZID=America/New_York:20071128T181500
DTEND;TZID=America/New_York:
SUMMARY:Praising William Empson
DESCRIPTION:William Empson\, the author of perhaps the best known work in
  literary criticism of the last century Seven Types of Ambig
 uity and a legendary figure in British literary criticism\, w
 ill be the subject of two talks: one by John Haffenden\, the 
 author of a recent widely applauded biography of Empson\, and
  the other by Christopher Ricks\, the professor of poetry at 
 Oxford university and one of the most engaging and penetrati
 ng critics of our time.\n\nFeaturing Christopher Ricks and Joh
 n Haffenden
END:VEVENT
END:VCALENDAR