BEGIN:VCALENDAR
VERSION:2.0
PRODID:-//ExpressionEngine Easy iCalendar plugin//NONSGML v1.1.1//EN
BEGIN:VEVENT
UID:event
LOCATION:The Heyman Center\, Common Room
DTSTAMP:20210221T35100Z
DTSTART;TZID=America/New_York:20071210T181500
DTEND;TZID=America/New_York:
SUMMARY:The Fortunes of Atlantic History
DESCRIPTION:Bernard Bailyn\, one of the most venerable and respected of A
 merican historians (and intellectual historians)\, will speak
  on 'The Fortunes of Atlantic History'.
END:VEVENT
END:VCALENDAR