BEGIN:VCALENDAR
VERSION:2.0
PRODID:-//ExpressionEngine Easy iCalendar plugin//NONSGML v1.1.1//EN
BEGIN:VEVENT
UID:event
LOCATION:International Affairs Building\, Altschul Auditorium
DTSTAMP:20210221T35200Z
DTSTART;TZID=America/New_York:20080130T200000
DTEND;TZID=America/New_York:
SUMMARY:How the Nobel Was Won: Advances in the Science of Climate Ch
 ange
DESCRIPTION:Please join us for our first Heyman Center event of the seme
 ster featuring R.K. Pachauri\, Chairman of the UN Intergovern
 mental Panel on Climate Change (IPCC). The IPCC\, along with 
 Al Gore\, was awarded this year's Nobel Peace Prize. Also fea
 tured on the panel are Lee C. Bollinger\, President of Columb
 ia University\, Professor Joseph Stiglitz\, winner of the 2001
  Nobel Prize in economics\, as well as James Hansen and Cynth
 ia Rosenzweig\, leading researchers at the NASA Goddard Insti
 tute for Space Studies.
END:VEVENT
END:VCALENDAR