BEGIN:VCALENDAR
VERSION:2.0
PRODID:-//ExpressionEngine Easy iCalendar plugin//NONSGML v1.1.1//EN
BEGIN:VEVENT
UID:event
LOCATION:Schermerhorn Hall\, 501
DTSTAMP:20210221T35200Z
DTSTART;TZID=America/New_York:20080218T80000
DTEND;TZID=America/New_York:
SUMMARY:Cinema and Politics
DESCRIPTION:Two acute film critics\, Jim Hoberman of The Village Voice an
 d Stuart Klawans of The Nation\, who have educated metropolit
 an cinema lovers over the years in New York and Chicago will
  discuss the past and future of the medium's possibilities f
 or political statement.
END:VEVENT
END:VCALENDAR